BEGIN:VCALENDAR
VERSION:2.0
PRODID:-//Sabre//Sabre VObject 4.5.8//EN
CALSCALE:GREGORIAN
BEGIN:VEVENT
UID:sabre-vobject-cd818f41-3bf0-4b24-a211-71eaa234a2bd
DTSTAMP:20260421T065416Z
SUMMARY:Wendover Trip
DESCRIPTION:Take a trip to Wendover for a seafood buffet and fun. Just $15 
 and Leisure Travel provides the transportation.&nbsp\; Signup by Wednesday
  prior to trip date.\n\n&nbsp\;\n\nTrip includes:\n\nTransportation\n\nSea
 food Buffet ($27.95 value)\n\n$7 Gaming Credit\n\nGame &amp\; Drink Coupon
 s\n
X-ALT-DESC:FMTTYPE=text/html:<!DOCTYPE HTML PUBLIC "-//W3C//DTD HTML 3.2//E
 N"><HTML><p>Take a trip to Wendover for a seafood buffet and fun. Just $15
  and Leisure Travel provides the transportation.&nbsp\; Signup by Wednesda
 y prior to trip date.</p>\n\n<p>&nbsp\;</p>\n\n<p>Trip includes:</p>\n\n<p
 >Transportation</p>\n\n<p>Seafood Buffet ($27.95 value)</p>\n\n<p>$7 Gamin
 g Credit</p>\n\n<p>Game &amp\; Drink Coupons</p>\n</HTML>
CREATED;TZID=America/Denver:20180129T100525
URL;VALUE=URI:https://dugway.armymwr.com/calendar/event
DTSTART;TZID=America/Denver:20180504T150000
DTEND;TZID=America/Denver:20180504T010000
SEQUENCE:0
END:VEVENT
END:VCALENDAR
