BEGIN:VCALENDAR
VERSION:2.0
PRODID:-//Sabre//Sabre VObject 4.5.8//EN
CALSCALE:GREGORIAN
BEGIN:VEVENT
UID:sabre-vobject-67f206e6-6393-4399-a347-6fb37f0cc5a8
DTSTAMP:20260421T085645Z
SUMMARY:Month of the Military Child Closing Ceremony
DESCRIPTION:Come on out! Join CYS for an ice cream sundae. Event open for t
 he community.\n\nLocated at the front of the Child Youth Services building
 \, come celebrate our military kids!\n
X-ALT-DESC:FMTTYPE=text/html:<!DOCTYPE HTML PUBLIC "-//W3C//DTD HTML 3.2//E
 N"><HTML><p>Come on out! Join CYS for an ice cream sundae. Event open for 
 the community.</p>\n\n<p>Located at the front of the Child Youth Services 
 building\, come celebrate our military kids!</p>\n</HTML>
CREATED;TZID=America/Denver:20230411T144613
URL;VALUE=URI:https://dugway.armymwr.com/calendar/event
DTSTART;TZID=America/Denver:20230427T160000
DTEND;TZID=America/Denver:20230427T170000
SEQUENCE:0
END:VEVENT
END:VCALENDAR
