BEGIN:VCALENDAR
VERSION:2.0
PRODID:-//Sabre//Sabre VObject 4.5.8//EN
CALSCALE:GREGORIAN
BEGIN:VEVENT
UID:sabre-vobject-bccffd53-18ee-41f0-9d42-6b8301dfe294
DTSTAMP:20260421T085712Z
SUMMARY:Crystal Hot Springs Daytrip
DESCRIPTION:Outdoor Recreation is hosting a Crystal Hot Springs Day Trip on
  the 28th of April. Registration is required and requires an entry fee of 
 $33. This will include travel and the ticket to gain access to Crystal Hot
  Springs. Must be 8+ to join and parent or guardian required for anyone un
 der 18.\nRegister by April 24th at Shocklee Fitness Center!\n
X-ALT-DESC:FMTTYPE=text/html:<!DOCTYPE HTML PUBLIC "-//W3C//DTD HTML 3.2//E
 N"><HTML><p>Outdoor Recreation is hosting a Crystal Hot Springs Day Trip o
 n the 28th of April. Registration is required and requires an entry fee of
  $33. This will include travel and the ticket to gain access to Crystal Ho
 t Springs. Must be 8+ to join and parent or guardian required for anyone u
 nder 18.<br />\nRegister by April 24th at Shocklee Fitness Center!</p>\n</
 HTML>
CREATED;TZID=America/Denver:20230411T144936
URL;VALUE=URI:https://dugway.armymwr.com/calendar/event
DTSTART;TZID=America/Denver:20230428T090000
DTEND;TZID=America/Denver:20230428T100000
SEQUENCE:0
END:VEVENT
END:VCALENDAR
