BEGIN:VCALENDAR
VERSION:2.0
PRODID:-//Sabre//Sabre VObject 4.5.8//EN
CALSCALE:GREGORIAN
BEGIN:VEVENT
UID:sabre-vobject-5ed91887-e4e9-49bd-a35b-0ca5922756a8
DTSTAMP:20260419T165700Z
SUMMARY:Book Club
DESCRIPTION:Join a group of book loving enthusiasts at the Library!\n
X-ALT-DESC:FMTTYPE=text/html:<!DOCTYPE HTML PUBLIC "-//W3C//DTD HTML 3.2//E
 N"><HTML><p>Join a group of book loving enthusiasts at the Library!</p>\n<
 /HTML>
CREATED;TZID=America/Denver:20230509T095323
URL;VALUE=URI:https://dugway.armymwr.com/calendar/event
DTSTART;TZID=America/Denver:20230517T190000
DTEND;TZID=America/Denver:20230517T200000
SEQUENCE:0
END:VEVENT
END:VCALENDAR
