BEGIN:VCALENDAR
VERSION:2.0
PRODID:-//Sabre//Sabre VObject 4.5.8//EN
CALSCALE:GREGORIAN
BEGIN:VEVENT
UID:sabre-vobject-00bb0fa5-e567-4cc3-92f7-3901eb0e8a46
DTSTAMP:20260419T165701Z
SUMMARY:Pull a Firetruck Team Competition
DESCRIPTION:Head over to Shocklee Fitness Center for this fun Sports and Fi
 tness Competition!\n
X-ALT-DESC:FMTTYPE=text/html:<!DOCTYPE HTML PUBLIC "-//W3C//DTD HTML 3.2//E
 N"><HTML><p>Head over to Shocklee Fitness Center for this fun Sports and F
 itness Competition!</p>\n</HTML>
CREATED;TZID=America/Denver:20230509T100539
URL;VALUE=URI:https://dugway.armymwr.com/calendar/event
DTSTART;TZID=America/Denver:20230511T150000
DTEND;TZID=America/Denver:20230511T160000
SEQUENCE:0
END:VEVENT
END:VCALENDAR
