BEGIN:VCALENDAR
VERSION:2.0
PRODID:-//Sabre//Sabre VObject 4.5.8//EN
CALSCALE:GREGORIAN
BEGIN:VEVENT
UID:sabre-vobject-10c53e4c-e42e-45e2-8023-4417614fe41a
DTSTAMP:20260425T115829Z
SUMMARY:Doughnut Falls Hiking Trip
DESCRIPTION:October 5: Doughnut Falls Hiking Trip- $15\n
X-ALT-DESC:FMTTYPE=text/html:<!DOCTYPE HTML PUBLIC "-//W3C//DTD HTML 3.2//E
 N"><HTML><p><strong>October 5: Doughnut Falls Hiking Trip- $15</strong></p
 >\n</HTML>
CREATED;TZID=America/Denver:20240213T110246
URL;VALUE=URI:https://dugway.armymwr.com/calendar/event
DTSTART;TZID=America/Denver:20241005T070000
DTEND;TZID=America/Denver:20241005T180000
SEQUENCE:0
END:VEVENT
END:VCALENDAR
